BEGIN:VCALENDAR
VERSION:2.0
PRODID:icalendar-ruby
CALSCALE:GREGORIAN
METHOD:PUBLISH
BEGIN:VEVENT
DTSTAMP:20260423T132809Z
UID:361-241080@taberefc.ca
DTSTART:20260426T180000Z
DTEND:20260426T200000Z
CLASS:PUBLIC
CREATED:20260422T141732
DESCRIPTION:The church will provide the main dish. \nLast names A-N please
  bring a dessert\, O-Z bring a salad. 
LAST-MODIFIED:20260422T141732
LOCATION:
SUMMARY:Potluck Lunch
URL;VALUE=URI:https://www.taberefc.ca/events/potluck-lunch--361/2026-04-26
ATTACH;FILENAME=22.png;FMTTYPE=image/png:https://dq5pwpg1q8ru0.cloudfront.n
 et/2026/04/22/20/17/32/d6030e58-9a8c-40a3-8931-4947f42ea103/22.png
END:VEVENT
END:VCALENDAR
